BEGIN:VCALENDAR
VERSION:2.0
PRODID:-//DIGITAL FACTORY//EVENTS MAKER V1.6.14//EN
CALSCALE:GREGORIAN
BEGIN:VEVENT
DTEND:20161003T170000Z
UID:69e73ac0c8537
DTSTAMP:20260421T085216Z
CATEGORIES:Wanderung
DESCRIPTION:Gewandert wird nach Karte\, 2 Tageswanderungen und eine Halbtagswanderung im Bereich Wasserkuppe und Kreuzberg. Gebucht sind 3 Doppelzimmer mit Dusche und WC\; 4 Doppelzimmer mit Etagendusche und –WC. Sollten noch Personen Interesse haben\, mitzuwandern\, können evtl. noch weitere Schlafplätze in 4-Bettzimmern dazugebucht werden.    Kosten für DZ mit D/WC: 30\,-€/Nacht/Person incl. Frühstück    DZ mit EtD/EtWC: 25\,-€/Nacht/Person incl. Frühstück    2-Bettzimmer: 24\,-€/Nacht/Person incl. Frühstück    4-Bettzimmer: 20\,-€/Nacht/Person incl. Frühstück    Zusätzlich werden 1\,-€ Kurbeitrag/Nacht/Person erhoben.    Im Haus ist ausschließlich Barzahlung möglich.    Verbindliche Anmeldungen an Beate Lippert\, Detmold\, Tel.: 05231/3052318 oder mobil 0173-3544821.    Wanderleiterin: Beate Lippert\, Detmold\, Tel.: 05231/3052318\, mobil 0173-3544821
URL;VALUE=URI:https://dav-detmold.de/veranstaltungen/event/huettenwochenende-in-der-rhoen-neustaedter-haus-bischofsheim/
SUMMARY:Hüttenwochenende in der Rhön\, Neustädter Haus\, Bischofsheim
DTSTART:20160930T145500Z
END:VEVENT
END:VCALENDAR
