BEGIN:VCALENDAR
VERSION:2.0
PRODID:-//DIGITAL FACTORY//EVENTS MAKER V1.6.14//EN
CALSCALE:GREGORIAN
BEGIN:VEVENT
DTEND:20180208T210500Z
UID:69e8b5b50201e
DTSTAMP:20260422T114909Z
CATEGORIES:Sektionsabende &amp\; Geselliges
LOCATION:Verein Ressource 
DESCRIPTION:Expedition zum Shivling\, 6543m\, dem Matterhorn Indiens.    Der Shivling im Himalaya gilt als  einer der formschönsten Berge der Welt.    Geformt wie das Matterhorn\, nur größer und schwerer.    Im Oktober machten sich Michael und Lukas Hettler auf\, um diesen Berg zu        besteigen.    Michael Hettler berichtet von Höhen und Tiefen dieser schwierigen Unternehmung.
URL;VALUE=URI:https://dav-detmold.de/veranstaltungen/event/expedition-zum-shivling/
SUMMARY:Expedition zum Shivling
DTSTART:20180208T182000Z
END:VEVENT
END:VCALENDAR
