BEGIN:VCALENDAR
VERSION:2.0
PRODID:-//DIGITAL FACTORY//EVENTS MAKER V1.6.14//EN
CALSCALE:GREGORIAN
BEGIN:VEVENT
DTEND:20240623T143000Z
UID:69e72bf6ad4ac
DTSTAMP:20260421T074910Z
CATEGORIES:Wanderung
DESCRIPTION:Rundwanderung\, Tagestour    Wandergebiet:  Vom Sportplatz in Hörste geht es auf dem Hermannsweg am Bienenschmidt    vorbei auf den Tönsberg und nach Oerlinghausen. Dort angekommen stärken wir uns beim    Kaffeetrinken\, um dann die Himmelsleiter zu erklimmen. Gut gelaunt nach so viel Einsatz machen    wir uns auf den Rückweg.    Einkehr geplant.    Abfahrt:  10:00 Uhr ab Detmold\, Sinalcohaus (Nähe Bahnhof)    Abmarsch:  10:30 Uhr ab Sportplatz Hörste\, Freibadstr. 50\, Lage-Hörste    Wanderleiterinnen:  Nicole Becker und Petra Thiemig\, Tel.: 0151/20192246
URL;VALUE=URI:https://dav-detmold.de/veranstaltungen/event/23-06-2024-so-w-14wanderung-zur-himmelsleiter-oerlinghausen-ca-16-km/
SUMMARY:23.06.2024  (So.) W 14	Wanderung zur Himmelsleiter Oerlinghausen\,  ca. 16 km
DTSTART:20240623T090000Z
END:VEVENT
END:VCALENDAR
