BEGIN:VCALENDAR
VERSION:2.0
PRODID:-//DIGITAL FACTORY//EVENTS MAKER V1.6.14//EN
CALSCALE:GREGORIAN
BEGIN:VEVENT
DTEND:20241110T140000Z
UID:69e4e2aa67cdc
DTSTAMP:20260419T141154Z
CATEGORIES:Wanderung
DESCRIPTION:Rundwanderung\, Tagestour    Wandergebiet:  Vom Blomensteiner Weiher wandern wir Richtung Bega\; werden einen Blick auf Sommersell genießen\, bevor wir den  261m hohen Püllenberg erklimmen und auf dem Rückweg noch das Örtchen Altendonop durchqueren.    Einkehr geplant.    Abfahrt:  9:30 Uhr ab Detmold\, Sinalcohaus (Nähe Bahnhof)    Abmarsch:  10:00 Uhr ab Parkplatz Ruheforst\, Blomensteiner Weg\, Wendlinghausen (Dörentrup)    Wanderleiterin:  Birgit Lange-Möllmann\, Tel.:  05231/37433    &nbsp\;    &nbsp\;
URL;VALUE=URI:https://dav-detmold.de/veranstaltungen/event/10-11-2024-wanderung-um-lueh-und-osterberg-ca-13-km/
SUMMARY:10.11.2024 Wanderung um Lüh-und Osterberg\, ca 13 km
DTSTART:20241110T083000Z
END:VEVENT
END:VCALENDAR
