BEGIN:VCALENDAR
VERSION:2.0
PRODID:-//DIGITAL FACTORY//EVENTS MAKER V1.6.14//EN
CALSCALE:GREGORIAN
BEGIN:VEVENT
DTEND:20250309T142000Z
UID:69e533dd8a283
DTSTAMP:20260419T195821Z
CATEGORIES:Wanderung
DESCRIPTION:Tageswanderung\, Rundwanderung    Besonders geeignet für Wanderneulinge und Singles!    Wandergebiet:  Rund um Berlebeck.    Wir wandern von Berlebeck über die Adlerwarte\, die Hohe Warte\, durch ein Quellgebiet zur Falkenburg und zurück.    Infos am Wegesrand und bei Wunsch Gesundheitsübungen werden angeboten.    Rucksackverpflegung\, Wanderstöcke (bei Bedarf)\, ggf. Regenbekleidung.    Anmeldung erbeten bis 2 Tage vorher.    Abmarsch :   10:00 Uhr ab Bushaltestelle Kanne/Parkplatz in Berlebeck    Wanderleiter:  Roman Weber\, Gesundheitswanderführer\, Detmold\,    Tel.:  05231/9104445 (Büro) oder per Mail:  wandern@romanwalt.de
URL;VALUE=URI:https://dav-detmold.de/veranstaltungen/event/09-03-2025-so-w-4zwischen-gipfeln-und-quellen-ca-13-km/
SUMMARY:09.03.2025  (So.) W 4	Zwischen Gipfeln und Quellen\,  ca. 13 km
DTSTART:20250309T090000Z
END:VEVENT
END:VCALENDAR
